BEGIN:VCALENDAR
VERSION:2.0
PRODID:-//wp-events-plugin.com//7.2.3.1//EN
TZID:Europe/Berlin
X-WR-TIMEZONE:Europe/Berlin
BEGIN:VEVENT
UID:9303@bensheimerleben.de
DTSTART;TZID=Europe/Berlin:20260501T100000
DTEND;TZID=Europe/Berlin:20260501T180000
DTSTAMP:20260420T070339Z
URL:https://bensheimerleben.de/events/1-mai-feier-bei-der-psg-auerbach/
SUMMARY:1. Mai Feier bei der PSG Auerbach
DESCRIPTION:Die Privilegierte Schützengesellschaft lädt alle Bürger zur 
 1. Mai Feier ein.\n\nAuf dem naturnahen Vereinsgelände können die Gäste
  Bratwürste vom Grill\, Pommes\, oder Kaffee mit Kuchen bekommen. An der 
 Außenbar werden kalte Getränke und Bier vom Fass ausgegeben.\n\nAuch fü
 r die kleinen Besucher gibt es diverse Beschäftigungsmöglichkeiten!\n\nD
 ie PSG Auerbach freut sich auf euren Besuch!
CATEGORIES:Familie, Kinder &amp; Jugend,Feste, Märkte und Regionales
END:VEVENT
BEGIN:VTIMEZONE
TZID:Europe/Berlin
X-LIC-LOCATION:Europe/Berlin
BEGIN:DAYLIGHT
DTSTART:20260329T030000
TZOFFSETFROM:+0100
TZOFFSETTO:+0200
TZNAME:CEST
END:DAYLIGHT
END:VTIMEZONE
END:VCALENDAR