BEGIN:VCALENDAR
VERSION:2.0
PRODID:-//wp-events-plugin.com//7.2.3.1//EN
TZID:Europe/Berlin
X-WR-TIMEZONE:Europe/Berlin
BEGIN:VEVENT
UID:8738@bensheimerleben.de
DTSTART;TZID=Europe/Berlin:20251207T170000
DTEND;TZID=Europe/Berlin:20251207T170000
DTSTAMP:20251205T121653Z
URL:https://bensheimerleben.de/events/adventsmusik-in-der-michaelskirche/
SUMMARY:Adventsmusik in der Michaelskirche
DESCRIPTION:Die Kantorei der Michaelskirche singt von Haydn die "Missa brev
 is Sancti Joannis de Deo". Außerdem werden mit allen Besucherinnen und Be
 suchern bekannte und unbekannte Weihnachtslieder gesungen. Am Ausgang wird
  eine Kollekte zur Deckung der Unkosten erbeten. \n\nPlakat (PDF)
CATEGORIES:Konzerte &amp; Musik
LOCATION:Evangelische Michaelskirche Bensheim\, Darmstädter Straße 21\, B
 ensheim\, 64625\, Deutschland
GEO:49.685113;8.621893
X-APPLE-STRUCTURED-LOCATION;VALUE=URI;X-ADDRESS=Darmstädter Straße 21\, B
 ensheim\, 64625\, Deutschland;X-APPLE-RADIUS=100;X-TITLE=Evangelische Mich
 aelskirche Bensheim:geo:49.685113,8.621893
END:VEVENT
BEGIN:VTIMEZONE
TZID:Europe/Berlin
X-LIC-LOCATION:Europe/Berlin
BEGIN:STANDARD
DTSTART:20251026T020000
TZOFFSETFROM:+0200
TZOFFSETTO:+0100
TZNAME:CET
END:STANDARD
END:VTIMEZONE
END:VCALENDAR