BEGIN:VCALENDAR
VERSION:2.0
PRODID:-//wp-events-plugin.com//7.2.3.1//EN
TZID:Europe/Berlin
X-WR-TIMEZONE:Europe/Berlin
BEGIN:VEVENT
UID:9301@bensheimerleben.de
DTSTART;TZID=Europe/Berlin:20260422T090000
DTEND;TZID=Europe/Berlin:20260422T153000
DTSTAMP:20260420T070140Z
URL:https://bensheimerleben.de/events/aktionstag-jugend/
SUMMARY:Aktionstag Jugend
DESCRIPTION:Wie soll BENSHEIM in Zukunft für Jugendliche aussehen?\n\nEntw
 ickle mit uns Ideen und konkrete Projekte zu unserer Stadt!\n\nkulturelle 
 Veranstaltungen\nOrte und Plätze zum optimieren\nmehr politische Mitwirku
 ng\n\nDie Partnerschaft für Demokratie und die Jugendförderung Bensheim 
 suchen deine Ideen für unsere Stadt! Bring dich ein\, diskutiere mit ande
 ren Jugendlichen und entwickle gemeinsam Lösungen\, die zukünftig auch u
 mgesetzt werden können. Um teilzunehmen musst du zwischen 12 und 20 Jahre
 n sein. Die Veranstaltung ist barrierearm.\n\nDeine Meinung zählt – ges
 talte Bensheim mit!\n\nBürgerhaus Kronepark am Mittwoch\, 22.04.2026 ab 0
 9:00 Uhr – Pizza zum Mittag inklusive.\nBei weiteren Fragen bitte an: ku
 f.bensheim@caritas-darmstadt.de\nBensheim Lebt Demoraktie
ATTACH;FMTTYPE=image/jpeg:https://bensheimerleben.de/wp-content/uploads/20
 26/04/Jugend.png
CATEGORIES:Bürgerbeteiligung,Familie, Kinder &amp; Jugend
LOCATION:Bürgerhaus Kronepark in Auerbach\, Darmstädter Straße 166\, Ben
 sheim\, 64625\, Deutschland
GEO:49.699618;8.621513
X-APPLE-STRUCTURED-LOCATION;VALUE=URI;X-ADDRESS=Darmstädter Straße 166\, 
 Bensheim\, 64625\, Deutschland;X-APPLE-RADIUS=100;X-TITLE=Bürgerhaus Kron
 epark in Auerbach:geo:49.699618,8.621513
END:VEVENT
BEGIN:VTIMEZONE
TZID:Europe/Berlin
X-LIC-LOCATION:Europe/Berlin
BEGIN:DAYLIGHT
DTSTART:20260329T030000
TZOFFSETFROM:+0100
TZOFFSETTO:+0200
TZNAME:CEST
END:DAYLIGHT
END:VTIMEZONE
END:VCALENDAR