BEGIN:VCALENDAR
VERSION:2.0
PRODID:-//wp-events-plugin.com//7.2.3.1//EN
TZID:Europe/Berlin
X-WR-TIMEZONE:Europe/Berlin
BEGIN:VEVENT
UID:9310@bensheimerleben.de
DTSTART;TZID=Europe/Berlin:20260510T110000
DTEND;TZID=Europe/Berlin:20260510T170000
DTSTAMP:20260422T085132Z
URL:https://bensheimerleben.de/events/aktionstag-wissen-waechst-im-garten-
 2/
SUMMARY:Aktionstag „Wissen wächst im Garten“
DESCRIPTION:Parallel zum Frühlingsmarkt der Stadt Lorsch laden die Staatli
 chen Schlösser und Gärten Hessen beim kostenfreien Aktionstag „Wissen 
 wächst im Garten“ Kinder und Familien ein\, die Gärten der Klosteranla
 ge spielerisch zu erkunden und an Mitmachstationen mehr über Gartenkunst\
 , Biodiversität und Nachhaltigkeit zu erfahren. Ausgestattet mit einer St
 empelkarte geht es für kleine (und große) Besucherinnen und Besucher auf
  Erkundungstour\, an deren Ende ein kleines Präsent wartet.
ATTACH;FMTTYPE=image/jpeg:https://bensheimerleben.de/wp-content/uploads/20
 26/04/2026.04.20-Lorsch-Plakat.png
CATEGORIES:Familie, Kinder &amp; Jugend,Freizeit,Kultur &amp; Bildung
LOCATION:Kloster Lorsch\, Nibelungenstraße 32\, Lorsch\, 64653\, Deutschla
 nd
GEO:49.653523;8.569474
X-APPLE-STRUCTURED-LOCATION;VALUE=URI;X-ADDRESS=Nibelungenstraße 32\, Lors
 ch\, 64653\, Deutschland;X-APPLE-RADIUS=100;X-TITLE=Kloster Lorsch:geo:49.
 653523,8.569474
END:VEVENT
BEGIN:VTIMEZONE
TZID:Europe/Berlin
X-LIC-LOCATION:Europe/Berlin
BEGIN:DAYLIGHT
DTSTART:20260329T030000
TZOFFSETFROM:+0100
TZOFFSETTO:+0200
TZNAME:CEST
END:DAYLIGHT
END:VTIMEZONE
END:VCALENDAR