BEGIN:VCALENDAR
VERSION:2.0
PRODID:-//wp-events-plugin.com//7.2.3.1//EN
TZID:Europe/Berlin
X-WR-TIMEZONE:Europe/Berlin
BEGIN:VEVENT
UID:9306@bensheimerleben.de
DTSTART;TZID=Europe/Berlin:20260425T100000
DTEND;TZID=Europe/Berlin:20260425T180000
DTSTAMP:20260420T070312Z
URL:https://bensheimerleben.de/events/brasilianischer-basar-in-bensheim/
SUMMARY:Brasilianischer Basar in Bensheim
DESCRIPTION:Ein Tag wie in Brasilien!\n\nDas Angebot umfasst:\n\n 	Brasilia
 nische Live-Musik\n 	Brasilianische Spezialitäten\n 	Flohmarkt / Second-H
 and-Basar für Kleidung\, Kindersachen und mehr\n 	Brasilianische Produkte
 \n\nDer Eintritt beträgt 5 €\; für Kinder ist der Eintritt frei.
ATTACH;FMTTYPE=image/jpeg:https://bensheimerleben.de/wp-content/uploads/20
 26/04/Handzettel-BrasilianischerBasar-20260425.jpg
CATEGORIES:Feste, Märkte und Regionales
LOCATION:Kolpinghaus\, Am Rinnentor 46 \, Bensheim\, 64625\, Deutschland
GEO:49.680114;8.618917
X-APPLE-STRUCTURED-LOCATION;VALUE=URI;X-ADDRESS=Am Rinnentor 46 \, Bensheim
 \, 64625\, Deutschland;X-APPLE-RADIUS=100;X-TITLE=Kolpinghaus:geo:49.68011
 4,8.618917
END:VEVENT
BEGIN:VTIMEZONE
TZID:Europe/Berlin
X-LIC-LOCATION:Europe/Berlin
BEGIN:DAYLIGHT
DTSTART:20260329T030000
TZOFFSETFROM:+0100
TZOFFSETTO:+0200
TZNAME:CEST
END:DAYLIGHT
END:VTIMEZONE
END:VCALENDAR