BEGIN:VCALENDAR
VERSION:2.0
PRODID:-//wp-events-plugin.com//7.2.3.1//EN
TZID:Europe/Berlin
X-WR-TIMEZONE:Europe/Berlin
BEGIN:VEVENT
UID:8768@bensheimerleben.de
DTSTART;TZID=Europe/Berlin:20251217T200000
DTEND;TZID=Europe/Berlin:20251217T200000
DTSTAMP:20251216T114825Z
URL:https://bensheimerleben.de/events/buch-lesung-matthias-schneider-ein-d
 oppeldeutsches-leben/
SUMMARY:Buch-Lesung "Matthias Schneider - Ein doppeldeutsches Leben"
DESCRIPTION:Der ehemalige Mitarbeiter der Stadtmühle Stefan Schäfer liest
  aus seinem Buch "Matthias Schneider - Ein doppeldeutsches Leben".\nUmrahm
 t wird das Ganze von passender Musik\, die Tomislav Strinic (Mr. &amp\; Mr
 s. Sippi) auflegt.\nAnschließend bleibt noch Gelegenheit\, das Buch zu er
 werben und signieren zu lassen.
ATTACH;FMTTYPE=image/jpeg:https://bensheimerleben.de/wp-content/uploads/20
 25/12/Screenshot_20251213-140534_Samsung-Internet.jpg
CATEGORIES:Lesungen, Vorträge und Kurse
LOCATION:Stadtmühle Bensheim\, Platanenallee 2-4\, Bensheim\, Deutschland
GEO:49.6807;8.62351
X-APPLE-STRUCTURED-LOCATION;VALUE=URI;X-ADDRESS=Platanenallee 2-4\, Benshei
 m\, Deutschland;X-APPLE-RADIUS=100;X-TITLE=Stadtmühle Bensheim:geo:49.680
 7,8.62351
END:VEVENT
BEGIN:VTIMEZONE
TZID:Europe/Berlin
X-LIC-LOCATION:Europe/Berlin
BEGIN:STANDARD
DTSTART:20251026T020000
TZOFFSETFROM:+0200
TZOFFSETTO:+0100
TZNAME:CET
END:STANDARD
END:VTIMEZONE
END:VCALENDAR