BEGIN:VCALENDAR
VERSION:2.0
PRODID:-//wp-events-plugin.com//7.2.3.1//EN
TZID:Europe/Berlin
X-WR-TIMEZONE:Europe/Berlin
BEGIN:VEVENT
UID:9277@bensheimerleben.de
DTSTART;TZID=Europe/Berlin:20260402T213000
DTEND;TZID=Europe/Berlin:20260402T233000
DTSTAMP:20260401T073700Z
URL:https://bensheimerleben.de/events/choralmeditation/
SUMMARY:Choralmeditation
DESCRIPTION:Die Choralmeditation stellt das neue Gebot der Liebe in den Mit
 telpunkt. Dazu wird der Choral "ubi caritas" in seiner gregorianischen Fas
 sung gesungen und die Neukompositionen von Snyder\, Gijelo und Berthier (T
 aizé) von der Bergsträßer Choralschola bzw. der Jugendkantorei gesungen
 . Hörhinweise wechseln mit Lesungen aus den sog. Abschiedsreden Jesu im J
 ohannesevangelium.\n\nBildnachweis: Valkenburg-Graduale Köln 1299 (kn28-1
 001b-122v)
ATTACH;FMTTYPE=image/jpeg:https://bensheimerleben.de/wp-content/uploads/20
 26/03/kn28-1001b_122v-1.jpg
CATEGORIES:Konzerte &amp; Musik
LOCATION:Kirche St. Georg Bensheim\, Marktplatz 10\, Bensheim\, 64625\, Deu
 tschland
GEO:49.681385;8.623952
X-APPLE-STRUCTURED-LOCATION;VALUE=URI;X-ADDRESS=Marktplatz 10\, Bensheim\, 
 64625\, Deutschland;X-APPLE-RADIUS=100;X-TITLE=Kirche St. Georg Bensheim:g
 eo:49.681385,8.623952
END:VEVENT
BEGIN:VTIMEZONE
TZID:Europe/Berlin
X-LIC-LOCATION:Europe/Berlin
BEGIN:DAYLIGHT
DTSTART:20260329T030000
TZOFFSETFROM:+0100
TZOFFSETTO:+0200
TZNAME:CEST
END:DAYLIGHT
END:VTIMEZONE
END:VCALENDAR