BEGIN:VCALENDAR
VERSION:2.0
PRODID:-//wp-events-plugin.com//7.2.3.1//EN
TZID:Europe/Berlin
X-WR-TIMEZONE:Europe/Berlin
BEGIN:VEVENT
UID:9316@bensheimerleben.de
DTSTART;TZID=Europe/Berlin:20261217T200000
DTEND;TZID=Europe/Berlin:20261217T223000
DTSTAMP:20260424T073329Z
URL:https://bensheimerleben.de/events/der-eingebildete-kranke/
SUMMARY:Der eingebildete Kranke
DESCRIPTION:\n\nArgan\, ein wohlhabender und schlecht gelaunter Privatier\,
  leidet vor sich hin und keine noch so teure Behandlung vermag seinen (Wel
 t-)Schmerz zu heilen. Kein Wunder: Seine Krankheit bildet er sich bloß ei
 n. Mit zu viel Zeit und zu viel Geld ausgestattet gibt der naive Argan sei
 n ganzes Vermögen für wirkungslose Medizin aus. Dabei bemerkt er nichts 
 von den falschen Absichten seiner Mitmenschen: Die Ärztin bereichert sich
  fröhlich an seiner Hypochondrie\, während es seiner geldgierigen Frau B
 éline mit dem Tod ihres Mannes insgeheim nicht schnell genug gehen kann. 
 Auch seiner Tochter Angélique gegenüber ist er ignorant und will sie\, g
 anz eigennützig und entgegen ihrem Willen\, mit dem Sohn seiner Ärztin v
 erheiraten.\nArgans griesgrämige Launen bekommt vor allem sein Dienstmäd
 chen Toinette zu spüren. Doch Toinette durchschaut die Tricks und lässt 
 sich von Argan nicht herumkommandieren\, im Gegenteil: Sie kontert souver
 än seine Gehässigkeiten und gibt ihm von seiner eigenen Medizin zu koste
 n. Toinette weiß natürlich\, dass Argan nicht wirklich krank ist und den
 kt sich eine kluge Behandlung für seine angeblichen Schmerzen aus: Indem 
 sie die Verhältnisse von Hausherr und Bediensteter umkehrt\, serviert Toi
 nette Argan all die Wahrheiten\, die er verleugnet – über die falschen 
 Absichten seiner Frau\, die Liebe zwischen Angélique und ihrem Cléante u
 nd nicht zuletzt über seinen Krankheitszustand.\nMartin Heckmanns wirft e
 inen frischen Blick auf die Molière’sche Komödie ohne dabei die Zeitlo
 sigkeit des Stoffs aus den Augen zu verlieren. Ein Porträt unserer Zeit u
 nd eine humorvolle Perspektive auf zwischenmenschliche Verhältnisse\, wie
  sie wirklich sind.\n\nWeitere Infos\n\nBild: ©Landesbühne Esslingen\n\n
ATTACH;FMTTYPE=image/jpeg:https://bensheimerleben.de/wp-content/uploads/20
 26/04/csm_eingebildet_kranke_8796_f856b42fad.jpeg
CATEGORIES:Theater, Aufführungen &amp; Show
LOCATION:PARKTHEATER Bensheim\, Georg-Stolle-Platz 5\, Bensheim\, Deutschla
 nd
GEO:49.682111;8.620373
X-APPLE-STRUCTURED-LOCATION;VALUE=URI;X-ADDRESS=Georg-Stolle-Platz 5\, Bens
 heim\, Deutschland;X-APPLE-RADIUS=100;X-TITLE=PARKTHEATER Bensheim:geo:49.
 682111,8.620373
END:VEVENT
BEGIN:VTIMEZONE
TZID:Europe/Berlin
X-LIC-LOCATION:Europe/Berlin
BEGIN:STANDARD
DTSTART:20261025T020000
TZOFFSETFROM:+0200
TZOFFSETTO:+0100
TZNAME:CET
END:STANDARD
END:VTIMEZONE
END:VCALENDAR