BEGIN:VCALENDAR
VERSION:2.0
PRODID:-//wp-events-plugin.com//7.2.3.1//EN
TZID:Europe/Berlin
X-WR-TIMEZONE:Europe/Berlin
BEGIN:VEVENT
UID:9317@bensheimerleben.de
DTSTART;TZID=Europe/Berlin:20270118T200000
DTEND;TZID=Europe/Berlin:20270118T220000
DTSTAMP:20260424T073737Z
URL:https://bensheimerleben.de/events/der-grosse-diktator/
SUMMARY:Der große Diktator
DESCRIPTION:Nach dem Meisterwerk von Charlie Chaplin\nKann man ein filmisch
 es Heiligtum auf die Bühne bringen? Das Landestheater Tübingen (LTT) bew
 eist es: Die Inszenierung von LTT-Intendant Thorsten Weckherlin ist keine 
 Kopie\, sondern eine hochaktuelle Hommage. In einer Zeit\, in der Populism
 us und Hassrhetorik weltweit wieder Konjunktur haben\, schlägt diese Insz
 enierung die Brücke von 1939 direkt ins Heute.\nDie groteske Verwechslung
  des tomanischen Diktators Adenoid Hynkel mit einem jüdischen Barbier bil
 det den Ausgangspunkt von Charlie Chaplins erstem Tonfilm: eine bitterbös
 e\, dabei aber umwerfend komische Satire aus dem Jahr 1940\, die es mitten
  im Zweiten Weltkrieg wagte\, das pure Böse direkt zu verspotten. Der Fil
 m\, der zu Chaplins erfolgreichstem Werk wurde\, war in Nazi-Deutschland v
 erboten. Chaplin setzt der Hass gebärenden Rhetorik des megalomanen Führ
 ers die Aufrichtigkeit des namenlosen Barbiers entgegen\, der mit seiner w
 eltbekannten Schlussrede ein ewig gültiges Plädoyer für Menschlichkeit 
 und Frieden hält.\n\nIn der Doppelrolle Hynkel/Barbier ist Andreas Guglie
 lmetti zu erleben. Ihm zur Seite steht ein spielfreudiges\, achtköpfiges 
 Ensemble\, das in der Bühnenfassung in vielen unterschiedlichen Rollen zu
  sehen sein wird.\n\nWeitere Infos\n\nFoto: ©Salomé Noller (LTT)
ATTACH;FMTTYPE=image/jpeg:https://bensheimerleben.de/wp-content/uploads/20
 26/04/Diktator_quer_LTT.jpg
CATEGORIES:Theater, Aufführungen &amp; Show
LOCATION:PARKTHEATER Bensheim\, Georg-Stolle-Platz 5\, Bensheim\, Deutschla
 nd
GEO:49.682111;8.620373
X-APPLE-STRUCTURED-LOCATION;VALUE=URI;X-ADDRESS=Georg-Stolle-Platz 5\, Bens
 heim\, Deutschland;X-APPLE-RADIUS=100;X-TITLE=PARKTHEATER Bensheim:geo:49.
 682111,8.620373
END:VEVENT
BEGIN:VTIMEZONE
TZID:Europe/Berlin
X-LIC-LOCATION:Europe/Berlin
BEGIN:STANDARD
DTSTART:20261025T020000
TZOFFSETFROM:+0200
TZOFFSETTO:+0100
TZNAME:CET
END:STANDARD
END:VTIMEZONE
END:VCALENDAR