BEGIN:VCALENDAR
VERSION:2.0
PRODID:-//wp-events-plugin.com//7.2.3.1//EN
TZID:Europe/Berlin
X-WR-TIMEZONE:Europe/Berlin
BEGIN:VEVENT
UID:9315@bensheimerleben.de
DTSTART;TZID=Europe/Berlin:20261110T200000
DTEND;TZID=Europe/Berlin:20261110T214500
DTSTAMP:20260424T072916Z
URL:https://bensheimerleben.de/events/draussen-vor-der-tuer/
SUMMARY:Draussen vor der Tür
DESCRIPTION:Wolfgang Borcherts Anti-Kriegs-Drama in einer bewegenden Neuins
 zenierung Ein Mann kommt aus dem Krieg zurück – und findet keinen Platz
  mehr im Leben. Beckmann heißt er – aber niemand nennt ihn mehr beim Vo
 rnamen. Als hätte man ihm mit dem Namen auch das Ich genommen. Die Gesell
 schaft\, der er diente\, wendet sich ab. Was bleibt\, ist das Stehen vor v
 erschlossenen Türen. Draußen – vor der Welt\, vor der Zukunft. Beckman
 n ist 25\, kommt aus russischer Kriegsgefangenschaft zurück in das zerbom
 bte Hamburg. Gezeichnet an Körper und Seele: das Knie zerschossen\, die G
 asmaskenbrille haftet ihm wie ein Fremdkörper im Gesicht – ein ständig
 es Zeichen der Entmenschlichung. Doch statt Rückhalt oder Verständnis fi
 ndet er nur Ablehnung: Die Frau hat ihn verlassen\, der Oberst weist jede 
 Verantwortung von sich\, das Mädchen\, das ihn vor dem Ertrinken rettet\,
  will nichts von seinem Leid wissen. In einer traumähnlichen Wanderung be
 gegnet Beckmann nicht nur Menschen\, sondern auch überhöhten Figuren: de
 m Tod\, der Elbe\, Gott – und dem Anderen\, einer gespiegelten Version s
 einer selbst. Dabei öffnet sich eine vielschichtige theatrale Welt zwisch
 en Realismus\, Groteske und Lyrik – voller Sprachkraft\, Widerstand und 
 existenzieller Tiefe. Wolfgang Borcherts einziges Theaterstück ist mehr a
 ls ein Klassiker der Nachkriegsliteratur: „Draußen vor der Tür“ ist 
 ein poetischer Aufschrei gegen das Verstummen\, gegen das Wegsehen\, gegen
  das Verdrängen. Geschrieben 1947\, wenige Monate vor Borcherts frühem T
 od\, ist dieses Stück heute aktueller denn je. Und ein Weckruf. In einer 
 Zeit\, in der Fragen nach Kriegstauglichkeit\, Wehrpflicht und Pazifismus 
 wieder laut gestellt werden\, trifft Beckmanns verzweifelte Suche nach Sin
 n und Menschlichkeit ins Mark. Gerade junge Menschen erleben hier keine bl
 oße Geschichtsstunde\, sondern eine emotionale Auseinandersetzung mit Ver
 antwortung\, Schuld und der Sehnsucht nach Frieden. Das Neue Globe Theater
  bringt Borcherts Drama mit großer Klarheit\, sprachlicher Intensität un
 d emotionaler Unmittelbarkeit auf die Bühne: als kluges\, forderndes Werk
  über die existenziellen Folgen von Krieg\, das generationsübergreifend 
 bewegt und zur Diskussion anregt – und das sich als gesellschaftlich rel
 evantes\, ästhetisch starkes Statement in jedem anspruchsvollen Spielplan
  positionieren lässt.\n\nWeitere Infos\n\nBild: ©Neues Globe Theater Pot
 sdam
ATTACH;FMTTYPE=image/jpeg:https://bensheimerleben.de/wp-content/uploads/20
 26/04/NGT-Draussen-Plakat-A1_2025-05-2-504x714-1.jpg
CATEGORIES:Theater, Aufführungen &amp; Show
LOCATION:PARKTHEATER Bensheim\, Georg-Stolle-Platz 5\, Bensheim\, Deutschla
 nd
GEO:49.682111;8.620373
X-APPLE-STRUCTURED-LOCATION;VALUE=URI;X-ADDRESS=Georg-Stolle-Platz 5\, Bens
 heim\, Deutschland;X-APPLE-RADIUS=100;X-TITLE=PARKTHEATER Bensheim:geo:49.
 682111,8.620373
END:VEVENT
BEGIN:VTIMEZONE
TZID:Europe/Berlin
X-LIC-LOCATION:Europe/Berlin
BEGIN:STANDARD
DTSTART:20261025T020000
TZOFFSETFROM:+0200
TZOFFSETTO:+0100
TZNAME:CET
END:STANDARD
END:VTIMEZONE
END:VCALENDAR