BEGIN:VCALENDAR
VERSION:2.0
PRODID:-//wp-events-plugin.com//7.2.3.1//EN
TZID:Europe/Berlin
X-WR-TIMEZONE:Europe/Berlin
BEGIN:VEVENT
UID:8291@bensheimerleben.de
DTSTART;TZID=Europe/Berlin:20251214T200000
DTEND;TZID=Europe/Berlin:20251214T221500
DTSTAMP:20250613T070010Z
URL:https://bensheimerleben.de/events/es-war-die-lerche/
SUMMARY:Es war die Lerche
DESCRIPTION:\n\nDie neueste Tournee-Produktion „Es war die Lerche“ von 
 Ephraim Kishon\, eine musikalisch untermalte Komödie\, verspricht ein Hig
 hlight der Theatersaison zu werden.\n\nDer aus Israel stammende Kishon war
  und ist in Deutschland für seinen scharfen Witz und satirischen Blick au
 f gesellschaftliche Normen sehr beliebt.\n\nDiese Komödie beleuchtet das 
 Eheleben von Romeo und Julia\, über 30 Jahre nach ihrem vermeintlichen To
 d\, auf humorvolle und ironische Weise. Zuschauer erleben Romeo als Ballet
 tlehrer und Julia als nörgelnde Hausfrau\, die sich mit alltäglichen Her
 ausforderungen auseinandersetzen\, irgendwo zwischen „Wer macht den Abwa
 sch?“ und „Liebst du mich eigentlich noch?“. Ihre rebellische Tochte
 r Lucretia\, die schwatzhafte und leicht lüsterne Amme sowie der charmant
 e\, wenn auch demente Pater Lorenzo sorgen für zusätzliche Turbulenzen. 
 Der aus dem Jenseits intervenierende William Shakespeare versucht das wür
 delose Treiben zu ordnen. Und die Auflösung des Dilemmas ist für alle Be
 teiligten mehr als überraschend!\n\nKishon verwebt Musik und Dialog auf e
 ine Weise\, die das Publikum sowohl unterhält als auch zum Nachdenken anr
 egt. Seine Werke\, weltweit über 41 Millionen Mal verkauft\, spiegeln ein
 e tiefe Menschenkenntnis und eine unvergleichliche Erzählkunst wider.\n\n
 „Es war die Lerche“ ist eine einzigartige Gelegenheit\, klassische Lit
 eraturfiguren in einem neuen Licht zu erleben\, angereichert durch musikal
 ische Elemente\, die das komödiantische Talent Kishons zusätzlich betone
 n und für ein unterhaltsames sowie kurzweiliges Theatererlebnis sorgen.\n
 Ephraim Kishon zum 100. Geburtstag – Zeit für eine Neuentdeckung\n\nEph
 raim Kishon\, der Meister der Satire\, hätte 2024 seinen 100. Geburtstag 
 gefeiert. Bekannt für seinen scharfsinnigen Humor\, seinen unbestechliche
 n Blick auf menschliche Schwächen und seine zeitlose Komik\, bleibt Kisho
 n stets aktuell. Seine Werke wie „Es war die Lerche“ zeigen\, dass die
  Klassiker der Weltliteratur in seinem unverwechselbaren Stil ganz neue Di
 mensionen gewinnen können. Er karikierte die großen und kleinen Absurdit
 äten des Alltags – immer mit Augenzwinkern und einer guten Portion Selb
 stironie.\n\nKishons Erfolg spricht für sich: Millionen verkaufter Büche
 r\, Übersetzungen in 37 Sprachen und zahlreiche Theaterstücke\, die welt
 weit auf die Bühne gebracht wurden. Doch hinter dem humorvollen Ansatz ve
 rbirgt sich ein tiefer Blick auf das menschliche Miteinander – universel
 l\, zeitlos und von ungebrochener Relevanz. Gerade in einer Welt\, die oft
  komplex und überladen erscheint\, bieten Kishons Texte eine wohltuende E
 ntschleunigung und die Möglichkeit\, über sich selbst zu lachen.\n\nKish
 ons Fähigkeit\, gerade in Deutschland mit seinem Humor Brücken zu bauen\
 , bleibt unübertroffen. In einer Zeit der gesellschaftlichen Spannungen e
 rinnert uns seine Arbeit daran\, dass Satire nicht nur zum Lachen\, sonder
 n auch zum Verstehen der Welt beitragen kann. Kishons Stücke sind daher i
 mmer mehr als nur Komödien\; sie sind feinsinnige Gesellschaftsanalysen\,
  die uns dazu einladen\, die Welt mit anderen Augen zu sehen. Entdecken Si
 e Kishon neu und erleben Sie\, wie zeitlos guter Humor sein kann!\n\nBild:
  ©Philipp Plum\n\nWeitere Infos\n\n
ATTACH;FMTTYPE=image/jpeg:https://bensheimerleben.de/wp-content/uploads/20
 25/06/240826_ngt_lerche_pplum_009.jpg
CATEGORIES:Kultur &amp; Bildung,Theater, Aufführungen &amp; Show
LOCATION:PARKTHEATER Bensheim\, Georg-Stolle-Platz 5\, Bensheim\, Deutschla
 nd
GEO:49.682111;8.620373
X-APPLE-STRUCTURED-LOCATION;VALUE=URI;X-ADDRESS=Georg-Stolle-Platz 5\, Bens
 heim\, Deutschland;X-APPLE-RADIUS=100;X-TITLE=PARKTHEATER Bensheim:geo:49.
 682111,8.620373
END:VEVENT
BEGIN:VTIMEZONE
TZID:Europe/Berlin
X-LIC-LOCATION:Europe/Berlin
BEGIN:STANDARD
DTSTART:20251026T020000
TZOFFSETFROM:+0200
TZOFFSETTO:+0100
TZNAME:CET
END:STANDARD
END:VTIMEZONE
END:VCALENDAR