BEGIN:VCALENDAR
VERSION:2.0
PRODID:-//wp-events-plugin.com//7.2.3.1//EN
TZID:Europe/Berlin
X-WR-TIMEZONE:Europe/Berlin
BEGIN:VEVENT
UID:8818@bensheimerleben.de
DTSTART;TZID=Europe/Berlin:20260308T130000
DTEND;TZID=Europe/Berlin:20260308T130000
DTSTAMP:20260128T121556Z
URL:https://bensheimerleben.de/events/internationaler-frauentag-am-08-maer
 z-2026/
SUMMARY:Internationaler Frauentag mit Laura Dee und Ihren „Courageuses“
DESCRIPTION:Veranstaltung anlässlich des Internationalen Frauentages mit L
 aura Dee und Ihren „Courageuses“ am 08.03.2026 um 19.00 Uhr (ist berei
 ts Ausverkauft!) Zusatzkonzert um 13 Uhr im PiPaPo Kellertheater.\n\nEintr
 itt 10 Euro\, Vorverkauf in der Touristinformation Stadt Bensheim- nähere
  Infos siehe Flyer
ATTACH;FMTTYPE=image/jpeg:https://bensheimerleben.de/wp-content/uploads/20
 26/01/Flyer-Frauentag-2026-dina5_Seite_1.jpg
CATEGORIES:Frauen,Frauenbüro
LOCATION:PiPaPo-Kellertheater\, Wambolterhof 1\, Bensheim\, 64625\, Deutsch
 land
GEO:49.68068;8.621843
X-APPLE-STRUCTURED-LOCATION;VALUE=URI;X-ADDRESS=Wambolterhof 1\, Bensheim\,
  64625\, Deutschland;X-APPLE-RADIUS=100;X-TITLE=PiPaPo-Kellertheater:geo:4
 9.68068,8.621843
END:VEVENT
BEGIN:VTIMEZONE
TZID:Europe/Berlin
X-LIC-LOCATION:Europe/Berlin
BEGIN:STANDARD
DTSTART:20251026T020000
TZOFFSETFROM:+0200
TZOFFSETTO:+0100
TZNAME:CET
END:STANDARD
END:VTIMEZONE
END:VCALENDAR