BEGIN:VCALENDAR
VERSION:2.0
PRODID:-//wp-events-plugin.com//7.2.3.1//EN
TZID:Europe/Berlin
X-WR-TIMEZONE:Europe/Berlin
BEGIN:VEVENT
UID:7698@bensheimerleben.de
DTSTART;TZID=Europe/Berlin:20251205T200000
DTEND;TZID=Europe/Berlin:20251205T230000
DTSTAMP:20241204T114300Z
URL:https://bensheimerleben.de/events/john-diva-tribute-to-the-heroes/
SUMMARY:John Diva - Tribute to the Heroes
DESCRIPTION:Nach drei erfolgreichen Alben\, die allesamt in den deutschen C
 harts platziert waren (höchste Position Platz 24)\, sowie zahlreichen Tou
 rneen und Auftritten bei den wichtigsten Festivals in Deutschland und Euro
 pa\, kehren John Diva 2025 mit einer Neuauflage ihrer fulminanten 80s- Roc
 k Tribute Show auf die Bühne zurück. Kurzer Blick zurück: Mit dieser Sh
 ow hatte das atemberaubende Quintett um Front-Magier John Diva vor ziemlic
 h genau 10 Jahren das Wacken Open Air vor Tausenden von frenetischen Zusch
 auern im Sturm genommen und entwickelte sich in den folgenden Jahren zur w
 ohl besten und heißesten Tribute-Band für 80er Hard Rock auf dem Kontine
 nt. Nirgends konnte man die Helden von früher authentischer wieder erlebe
 n\, wobei John Diva nie wie eine Kopie wirkte. Er und seine vier Rock-Musk
 etiere schienen das Genre neu zu beleben und mit einer energiegeladenen un
 d irrwitzigen Show authentisch neue Kraft und Sinnhaftigkeit einzuhauchen.
  2025 ist es also so weit: Unter dem Titel JOHN DIVAS TRIBUTE TO THE HEROE
 S - denn um nichts anderes geht es hier – nehmen sich John Diva und sein
 e Band wieder die größten Hits des Jahrzehnts zur Brust. Der geborene En
 tertainer John Diva wird durch eine Show der Superlative führen\, flankie
 rt von einer Band\, die mit allen Wassern und Whiskeys gewaschen ist - und
  die musikalisch keine Kompromisse eingeht. Mit Songs von Bon Jovi\, Guns 
 N‘ Roses\, Def Leppard\, Whitesnake\, Van Halen\, Mötley Crüe und viel
 en anderen werden die großen Helden und der Stadionrock der 80er entstaub
 t und einzigartig zelebriert. Nicht umsonst hängt der Band der Ruf nach\,
  die beste ihre Art zu sein. Dabei dürfen neben den Mega-Hymnen wie „Li
 ving on a Prayer“\, „Paradise City“ und „Here I Go Again“ auch d
 ie großen Balladen dieser Zeit nicht fehlen. Fast unnötig zu erwähnen\,
  dass neben der Musik auch alles andere an John Diva so hart rockt\, dass 
 man aufpassen muss\, sich beim Abfeiern kein Schleudertrauma zuzuziehen. D
 ie Outfits der 5 Herren sind nicht weniger authentisch als ein Spaziergang
  auf dem Sunset Strip an einem Samstagabend im Jahr 1987. Und während vie
 le Rockbands über die Farben Schwarz und Schwarz meist nicht rauskommen\,
  glitzert und funkelt die Bühne bei John Diva in den unterschiedlichsten 
 Farben der Palette. Wenn man Glück hat – oder ganz lieb nachfragt – b
 ringt er auch sein Cheerleader-Team mit. So oder so: wenn John Diva im kom
 menden Jahr mit TRIBUTE TO THE HEROES auf die Bühne geht\, gibt es kein H
 alten mehr\, weder bei der Band\, John himself – und beim Publikum sowie
 so nicht.
ATTACH;FMTTYPE=image/jpeg:https://bensheimerleben.de/wp-content/uploads/20
 24/11/John-Diva-2024-03-web®Manfred_Pollert_1080.jpg
CATEGORIES:Konzerte &amp; Musik
LOCATION:MUSIKTHEATER REX\, Fabrikstraße 10\, Bensheim\, Deutschland
GEO:49.67575;8.61588
X-APPLE-STRUCTURED-LOCATION;VALUE=URI;X-ADDRESS=Fabrikstraße 10\, Bensheim
 \, Deutschland;X-APPLE-RADIUS=100;X-TITLE=MUSIKTHEATER REX:geo:49.67575,8.
 61588
END:VEVENT
BEGIN:VTIMEZONE
TZID:Europe/Berlin
X-LIC-LOCATION:Europe/Berlin
BEGIN:STANDARD
DTSTART:20251026T020000
TZOFFSETFROM:+0200
TZOFFSETTO:+0100
TZNAME:CET
END:STANDARD
END:VTIMEZONE
END:VCALENDAR