BEGIN:VCALENDAR
VERSION:2.0
PRODID:-//wp-events-plugin.com//7.2.3.1//EN
TZID:Europe/Berlin
X-WR-TIMEZONE:Europe/Berlin
BEGIN:VEVENT
UID:9319@bensheimerleben.de
DTSTART;TZID=Europe/Berlin:20270510T200000
DTEND;TZID=Europe/Berlin:20270510T220000
DTSTAMP:20260424T074611Z
URL:https://bensheimerleben.de/events/kalter-weisser-mann/
SUMMARY:Kalter weißer Mann
DESCRIPTION:\n\nEin Todesfall\, eine Trauerfeier\, ein Pfarrer\, eine traue
 rnde Gesellschaft. Soweit könnte die Trauerfeier für den mit 94 Jahren f
 riedlich verstorbenen Gernot Steinfels\, Patriarch einer mittelständische
 n deutschen Firma\, geordnet verlaufen. Könnte…\nDer neue Geschäftsfü
 hrer in spe\, Horst Bohne\, richtet für das Unternehmen die Trauerfeier a
 us und bestellt unter anderem einen Trauerkranz samt Trauerschleife im Nam
 en aller Angestellten. Horst Bohne weiß nicht\, in welche Bredouille ihn 
 diese Schleife bringt\, denn der Text darauf lautet: „In tiefer Trauer. 
 Deine Mitarbeiter“.\nAls alle Angestellten kurz vor Beginn der Zeremonie
  die Schleife sehen\, sind seine weiblichen Mitarbeiter ausgesprochen irri
 tiert. Wieso nicht „… und Mitarbeiterinnen.“? Oder Mitarbeiter_Innen
  bzw. Mitarbeiter*innen? Die trauernde Gemeinde – allen voran der künft
 ige Chef – stürzt schnell von einem sprachlichen Fehltritt in den näch
 sten und führt damit eine mikro-aggressive Kulturdebatte über Genderthem
 atik\, Sexismus und politisch korrektes Verhalten.\nDie Schlichtungsversuc
 he des Pfarrers laufen ins Leere\, während sich die Führungsetage der Fi
 rma in einem hochaktuellen und pointierten Kampf der Gegensätze befindet.
 \n\nDietmar Jacobs und Moritz Netenjakob (Autoren-Duo des Erfolgsstückes 
 „Extrawurst“) legen erneut eine schnelle\, unterhaltsame und hochaktue
 lle Komödie vor: In „Kalter weißer Mann“ nehmen sie mit makro- und m
 ikrokomödiantischer Akkuratesse sämtliche Diskussionen aufs Korn\, die u
 nsere Zeit bestimmen.\n\nWeitere Infos\n\nBild: ©Franziska Strauss\n\n
ATTACH;FMTTYPE=image/jpeg:https://bensheimerleben.de/wp-content/uploads/20
 26/04/Kalter-weisser-Mann-4_c_Franziska_Strauss.jpg
CATEGORIES:Theater, Aufführungen &amp; Show
LOCATION:PARKTHEATER Bensheim\, Georg-Stolle-Platz 5\, Bensheim\, Deutschla
 nd
GEO:49.682111;8.620373
X-APPLE-STRUCTURED-LOCATION;VALUE=URI;X-ADDRESS=Georg-Stolle-Platz 5\, Bens
 heim\, Deutschland;X-APPLE-RADIUS=100;X-TITLE=PARKTHEATER Bensheim:geo:49.
 682111,8.620373
END:VEVENT
BEGIN:VTIMEZONE
TZID:Europe/Berlin
X-LIC-LOCATION:Europe/Berlin
BEGIN:DAYLIGHT
DTSTART:20270328T030000
TZOFFSETFROM:+0100
TZOFFSETTO:+0200
TZNAME:CEST
END:DAYLIGHT
END:VTIMEZONE
END:VCALENDAR