BEGIN:VCALENDAR
VERSION:2.0
PRODID:-//wp-events-plugin.com//7.2.3.1//EN
TZID:Europe/Berlin
X-WR-TIMEZONE:Europe/Berlin
BEGIN:VEVENT
UID:9312@bensheimerleben.de
DTSTART;TZID=Europe/Berlin:20260429T180000
DTEND;TZID=Europe/Berlin:20260429T180000
DTSTAMP:20260423T085304Z
URL:https://bensheimerleben.de/events/konstituierende-sitzung-der-stadtver
 ordnetenversammlung/
SUMMARY:Konstituierende Sitzung der Stadtverordnetenversammlung
DESCRIPTION:
CATEGORIES:Politik
LOCATION:Bürgerhaus Bensheim\, Promenadenstraße/Beauner Platz\, Bensheim\
 , Hessen\, 64625\, Bergstraße\, Deutschland
X-APPLE-STRUCTURED-LOCATION;VALUE=URI;X-ADDRESS=Promenadenstraße/Beauner P
 latz\, Bensheim\, Hessen\, 64625\, Bergstraße\, Deutschland;X-APPLE-RADIU
 S=100;X-TITLE=Bürgerhaus Bensheim:geo:0,0
END:VEVENT
BEGIN:VTIMEZONE
TZID:Europe/Berlin
X-LIC-LOCATION:Europe/Berlin
BEGIN:DAYLIGHT
DTSTART:20260329T030000
TZOFFSETFROM:+0100
TZOFFSETTO:+0200
TZNAME:CEST
END:DAYLIGHT
END:VTIMEZONE
END:VCALENDAR