BEGIN:VCALENDAR
VERSION:2.0
PRODID:-//wp-events-plugin.com//7.2.3.1//EN
TZID:Europe/Berlin
X-WR-TIMEZONE:Europe/Berlin
BEGIN:VEVENT
UID:9318@bensheimerleben.de
DTSTART;TZID=Europe/Berlin:20270221T200000
DTEND;TZID=Europe/Berlin:20270221T223000
DTSTAMP:20260424T074214Z
URL:https://bensheimerleben.de/events/ladykillers/
SUMMARY:Ladykillers
DESCRIPTION:\n\nAm perfekten Verbrechen sind schon viele gescheitert. Doch 
 das undurchsichtige „Streichquartett“ ist überzeugt\, den ultimativen
  Coup in der Tasche zu haben. Unter einem harmlosen Vorwand nehmen sie Qua
 rtier bei der liebenswürdigen Mrs. Wilberforce – ein scheinbar stilles 
 Haus voller Tee\, Musik – und einer guten Aussicht auf den Bahnhof. Doch
  je länger der Aufenthalt dauert\, desto lauter knirscht es im sorgfälti
 g geölten Plan. Kleine Zufälle\, große Egos und ein unberechenbares Sch
 icksal treiben das Spiel in eine chaotische Richtung\, die keiner von ihne
 n geahnt hat. Und Mrs. Wilberforce? Vielleicht steckt hinter ihrem Lächel
 n mehr\, als man denkt…\n\nWeitere Infos\n\nBild: ©Line Urbanek\n\n
ATTACH;FMTTYPE=image/jpeg:https://bensheimerleben.de/wp-content/uploads/20
 26/04/01_Ladykillers©Line-Urbanek.jpg
CATEGORIES:Theater, Aufführungen &amp; Show
LOCATION:PARKTHEATER Bensheim\, Georg-Stolle-Platz 5\, Bensheim\, Deutschla
 nd
GEO:49.682111;8.620373
X-APPLE-STRUCTURED-LOCATION;VALUE=URI;X-ADDRESS=Georg-Stolle-Platz 5\, Bens
 heim\, Deutschland;X-APPLE-RADIUS=100;X-TITLE=PARKTHEATER Bensheim:geo:49.
 682111,8.620373
END:VEVENT
BEGIN:VTIMEZONE
TZID:Europe/Berlin
X-LIC-LOCATION:Europe/Berlin
BEGIN:STANDARD
DTSTART:20261025T020000
TZOFFSETFROM:+0200
TZOFFSETTO:+0100
TZNAME:CET
END:STANDARD
END:VTIMEZONE
END:VCALENDAR