BEGIN:VCALENDAR
VERSION:2.0
PRODID:-//wp-events-plugin.com//7.2.3.1//EN
TZID:Europe/Berlin
X-WR-TIMEZONE:Europe/Berlin
BEGIN:VEVENT
UID:9314@bensheimerleben.de
DTSTART;TZID=Europe/Berlin:20261002T200000
DTEND;TZID=Europe/Berlin:20261002T221500
DTSTAMP:20260424T072545Z
URL:https://bensheimerleben.de/events/mein-freund-harvey/
SUMMARY:Mein Freund Harvey
DESCRIPTION:\n\nElwood P. Dowd ist ein liebenswürdiger\, friedfertiger Gen
 tleman\, der gerne Whisky trinkt und in jedem Menschen etwas Positives sie
 ht. Sehr zum Leidwesen seiner Schwester Veta und der restlichen Verwandtsc
 haft wird er jedoch stets von einem unsichtbar-sichtbaren Freund und Trink
 gefährten begleitet – dem Hasen Harvey. Doch Harvey ist mehr als nur ei
 ne Einbildung: Er ist ein „Puka“\, ein Geist in Tiergestalt. Zumindest
  behauptet das Elwood.\nDie ständige Präsenz des 2\,10 Meter großen wei
 ßen Hasen stellt die Geduld seiner Mitmenschen auf eine harte Probe. Manc
 he glauben sogar\, diesen selbst zu sehen. In ihrer Verzweiflung fasst Vet
 a einen drastischen Entschluss: Sie will ihren geliebten Bruder in eine He
 ilanstalt einweisen lassen – in der Hoffnung\, so endlich wieder ein „
 normales“ gesellschaftliches Leben führen zu können.\nDoch Elwoods ent
 waffnende Freundlichkeit macht selbst vor den Mauern der Anstalt nicht Hal
 t. Seine charmante Art verwirrt nicht nur das Personal\, sondern bringt am
  Ende sogar den berühmten Chefpsychiater Dr. Chumley dazu\, an seiner eig
 enen Wahrnehmung zu zweifeln. Kurz vor dem „heilenden Eingriff“\, der 
 den Spuk ein für alle Mal beenden soll\, fällt Elwoods Familie eine uner
 wartete Entscheidung…!\nMein Freund Harvey feierte bereits lange vor der
  berühmten Verfilmung mit James Stewart (1950) große Erfolge am Broadway
 . Die mit dem Pulitzer-Preis ausgezeichnete Komödie von Mary Chase stellt
  auf höchst amüsante Weise die uralte Frage nach Realität und Illusion:
  Wer ist hier eigentlich wirklich verrückt – und wer gesund? Ein zeitlo
 ses\, hintergründiges Stück\, das mit feinem Humor einen überraschenden
  Blick auf die sogenannte kultivierte Gesellschaft wirft und dabei auch f
 ür ein modernes Publikum erstaunlich aktuell bleibt!\n\nWeitere Infos\n\n
 Bild: ©Theaterproduktion Lange\n\n
ATTACH;FMTTYPE=image/jpeg:https://bensheimerleben.de/wp-content/uploads/20
 26/04/02_Theaterproduktion_Lange_-6-1.jpg
CATEGORIES:Theater, Aufführungen &amp; Show
LOCATION:PARKTHEATER Bensheim\, Georg-Stolle-Platz 5\, Bensheim\, Deutschla
 nd
GEO:49.682111;8.620373
X-APPLE-STRUCTURED-LOCATION;VALUE=URI;X-ADDRESS=Georg-Stolle-Platz 5\, Bens
 heim\, Deutschland;X-APPLE-RADIUS=100;X-TITLE=PARKTHEATER Bensheim:geo:49.
 682111,8.620373
END:VEVENT
BEGIN:VTIMEZONE
TZID:Europe/Berlin
X-LIC-LOCATION:Europe/Berlin
BEGIN:DAYLIGHT
DTSTART:20260329T030000
TZOFFSETFROM:+0100
TZOFFSETTO:+0200
TZNAME:CEST
END:DAYLIGHT
END:VTIMEZONE
END:VCALENDAR