BEGIN:VCALENDAR
VERSION:2.0
PRODID:-//wp-events-plugin.com//7.2.3.1//EN
TZID:Europe/Berlin
X-WR-TIMEZONE:Europe/Berlin
BEGIN:VEVENT
UID:9307@bensheimerleben.de
DTSTART;TZID=Europe/Berlin:20270409T200000
DTEND;TZID=Europe/Berlin:20270409T230000
DTSTAMP:20260421T065853Z
URL:https://bensheimerleben.de/events/mytallica-best-of-metallica-live/
SUMMARY:MY’TALLICA  - Best of Metallica live
DESCRIPTION:MY’TALLICA haben sich über zwei Jahrzehnte zur gefragtesten 
 Metallica Tribute Show Deutschlands entwickelt. Das Original-Equipment der
  Vorbilder Metallica\, ein gewaltiger Live-Sound und ein abwechslungsreich
 es\, über zweistündiges Programm sind bei MY’TALLICA nur der Anfang. W
 eltweit einzigartig ist MY’TALLICAs Videoshow – mit atemberaubender LE
 D-Technologie erzählt sie die Bandgeschichte von Metallica auch visuell. 
 MY’TALLICA binden die Fans auf einer Leinwand interaktiv in die Show ein
 . So wird jedes Konzert mehr als eine Setlist mit vielen großen Metallica
 -Klassikern – es wird zu einem individuellen und einzigartigen Erlebnis.
  Die deutsche Metallica Tribute Band ist mehrfach als offizieller Live-Act
  im Rahmenprogramm von Metallica-Shows aufgetreten – und auch den Mitgli
 edern von Metallica selbst seit Jahren ein Begriff. Unter internationalen 
 Metallica-Fanclubs genießen MY‘TALLICA den Ruf als einer der besten Met
 allica Tribute-Acts der Welt.
ATTACH;FMTTYPE=image/jpeg:https://bensheimerleben.de/wp-content/uploads/20
 26/04/mytallica-tribute-band-germany-pressefoto-2025-ice-scaled_700.jpg
CATEGORIES:Freizeit,Konzerte &amp; Musik
LOCATION:MUSIKTHEATER REX\, Fabrikstraße 10\, Bensheim\, Deutschland
GEO:49.67575;8.61588
X-APPLE-STRUCTURED-LOCATION;VALUE=URI;X-ADDRESS=Fabrikstraße 10\, Bensheim
 \, Deutschland;X-APPLE-RADIUS=100;X-TITLE=MUSIKTHEATER REX:geo:49.67575,8.
 61588
END:VEVENT
BEGIN:VTIMEZONE
TZID:Europe/Berlin
X-LIC-LOCATION:Europe/Berlin
BEGIN:DAYLIGHT
DTSTART:20270328T030000
TZOFFSETFROM:+0100
TZOFFSETTO:+0200
TZNAME:CEST
END:DAYLIGHT
END:VTIMEZONE
END:VCALENDAR