BEGIN:VCALENDAR
VERSION:2.0
PRODID:-//wp-events-plugin.com//7.2.3.1//EN
TZID:Europe/Berlin
X-WR-TIMEZONE:Europe/Berlin
BEGIN:VEVENT
UID:8272@bensheimerleben.de
DTSTART;TZID=Europe/Berlin:20251207T190000
DTEND;TZID=Europe/Berlin:20251207T220000
DTSTAMP:20250602T091404Z
URL:https://bensheimerleben.de/events/naturally-7-3/
SUMMARY:Naturally 7
DESCRIPTION:\n“Closer Look - 25 Years” Tour\nNATURALLY 7 erzeugen den f
 acettenreichen Klangkosmos einer ganzen Band vom Sound des Schlagzeugs\, 
 über den Bass\, die Gitarre\, die Mundharmonika oder auch der Posaune –
  und das vollkommen ohne Instrumente!\n\n\n\n\n\nDie 7 Männer singen zwar
  A-Capella\, sind aber mit vielen anderen Gruppen dieses Genres nicht verg
 leichbar\, denn nur wenige erreichen einen so vollkommenen Sound. Mal ist 
 es R’n’B\, Soul oder HipHop\, mal Gospel\, Pop oder auch Rock. Mit spi
 elerischer Perfektion und absolut beeindruckender musikalischer und zwisch
 enmenschlicher Harmonie bescheren NATURALLY 7 ihrem Publikum immer wieder 
 unvergessliche Erlebnisse der außergewöhnlichen Art.\n\nZusätzlich zu i
 hrem musikalischen Können sind die sieben Vocal-Artisten auch großartige
  Entertainer und ihre Präsenz auf der Bühne erreicht jeden Platz des Hau
 ses und verzauberte bisher jeden Besucher.\nIns Leben gerufen wurde NATURA
 LLY 7 1999 von ROGER THOMAS\, der sich mit seinem Bruder WARREN fünf weit
 ere talentierten Sänger aus der Umgebung suchte.\nAusschlaggebend dafür 
 war\, dass WARREN sich als Kind ein Schlagzeug wünschte. Ihre Mutter mein
 te jedoch\, das würde zu viel Krach machen. Deshalb begann er diverse Dru
 m-Sounds stimmlich und mit dem Mund nach zu machen\, was man im HipHop sei
 t den 1980ern auch als „Beatboxing“ bezeichnet. So kam eines zum ander
 en und auch die anderen Bandmitglieder fanden Spaß daran Instrumente zu i
 mitieren\, was fortan zum NATURALLY 7-Markenzeichen wurde.\nZudem ist es a
 uch das Unterscheidungsmerkmal gegenüber vielen A-Capella-Gruppen\, die h
 auptsächlich singend performen. Das\, was den sieben Amerikanern so spiel
 erisch leicht von den Lippen geht\, nennen sie selber „Vocal Play“.\n\
 n\n
ATTACH;FMTTYPE=image/jpeg:https://bensheimerleben.de/wp-content/uploads/20
 25/05/NATURALLY-SEVEN-Neu-1.jpg
CATEGORIES:Konzerte &amp; Musik
LOCATION:PARKTHEATER Bensheim\, Georg-Stolle-Platz 5\, Bensheim\, Deutschla
 nd
GEO:49.682111;8.620373
X-APPLE-STRUCTURED-LOCATION;VALUE=URI;X-ADDRESS=Georg-Stolle-Platz 5\, Bens
 heim\, Deutschland;X-APPLE-RADIUS=100;X-TITLE=PARKTHEATER Bensheim:geo:49.
 682111,8.620373
END:VEVENT
BEGIN:VTIMEZONE
TZID:Europe/Berlin
X-LIC-LOCATION:Europe/Berlin
BEGIN:STANDARD
DTSTART:20251026T020000
TZOFFSETFROM:+0200
TZOFFSETTO:+0100
TZNAME:CET
END:STANDARD
END:VTIMEZONE
END:VCALENDAR