BEGIN:VCALENDAR
VERSION:2.0
PRODID:-//wp-events-plugin.com//7.2.3.1//EN
TZID:Europe/Berlin
X-WR-TIMEZONE:Europe/Berlin
BEGIN:VEVENT
UID:8496@bensheimerleben.de
DTSTART;TZID=Europe/Berlin:20251206T173000
DTEND;TZID=Europe/Berlin:20251206T210000
DTSTAMP:20250825T065734Z
URL:https://bensheimerleben.de/events/nikolaus-menue/
SUMMARY:Nikolaus-Menü
DESCRIPTION:NICOLAUS-DINNER\nGenießen Sie am 6. Dezember ein festliches Ni
 kolaus-Menü – begleitet von ausgewählten Weinen und Tischwasser\n\n D
 atum: Samstag\, den 06.12.2025\n Einlass: 17:30 Uhr mit Sektempfang\n Be
 ginn: 18:00 Uhr (bis 21:00 Uhr\n\n Preis: 69\,00€\ninklusive Begrüßun
 gssekt\, 4-Gang-Überraschungs-Menü und zum Menü korrespondierende Wein
 e und Tischwasser\n\n Buchung: +49(0)6251/989910 oder ✉info@parkhotel-k
 rone.de
CATEGORIES:Freizeit
LOCATION:Parkhotel Krone\, Darmstädter Straße 168\, Bensheim\, 64625\, De
 utschland
GEO:49.700134;8.621546
X-APPLE-STRUCTURED-LOCATION;VALUE=URI;X-ADDRESS=Darmstädter Straße 168\, 
 Bensheim\, 64625\, Deutschland;X-APPLE-RADIUS=100;X-TITLE=Parkhotel Krone:
 geo:49.700134,8.621546
END:VEVENT
BEGIN:VTIMEZONE
TZID:Europe/Berlin
X-LIC-LOCATION:Europe/Berlin
BEGIN:STANDARD
DTSTART:20251026T020000
TZOFFSETFROM:+0200
TZOFFSETTO:+0100
TZNAME:CET
END:STANDARD
END:VTIMEZONE
END:VCALENDAR