BEGIN:VCALENDAR
VERSION:2.0
PRODID:-//wp-events-plugin.com//7.2.3.1//EN
TZID:Europe/Berlin
X-WR-TIMEZONE:Europe/Berlin
BEGIN:VEVENT
UID:9305@bensheimerleben.de
DTSTART;TZID=Europe/Berlin:20271009T200000
DTEND;TZID=Europe/Berlin:20271009T230000
DTSTAMP:20260420T070458Z
URL:https://bensheimerleben.de/events/ray-wilson-band-genesis-classics/
SUMMARY:Ray Wilson & Band - Genesis Classics
DESCRIPTION:Ausnahmestimme mit den größten Genesis-Hits und eigenen Songs
  auf Tour Ray Wilson gilt als sympathischer Ausnahmesänger mit einer der 
 kraftvollsten und markantesten Stimmen der Rock-Musik und hat sich mit sei
 ner charismatischen Bühnenpräsenz weltweit einen Namen als exzellenter E
 ntertainer gemacht. Mit typisch schottischer Gelassenheit kombiniert er di
 e Energie der Rock-Musik mit komplexen Songtexten. Der ehemalige Genesis- 
 und Stiltskin-Frontmann präsentiert Ray Wilson bei diesem Konzert die gr
 ößten Hits der Genesis-Geschichte und seiner Solokarriere. Facettenreich
 e Songstrukturen aus der progressiven Rock-Ära der Band sowie die Pop-Hit
 s der 1970er bis 1990er Jahre verschmelzen zu den unterschiedlichsten Arra
 ngements\, zu einer neuen Dimension von Genesis\, ohne dass die Songs ihre
 n Originalcharakter verlieren. Garant dafür ist die einmalige Stimme von 
 Ray Wilson\, welcher allein mit dem letzten Genesis-Album „Calling All S
 tations" das viert bestverkaufte der Bandgeschichte eingesungen hat. Zwanz
 ig Jahre nach der Veröffentlichung von"Calling All Stations"\, wird Ray W
 ilson im Sextett die besten Stücke hieraus präsentieren. Im Repertoire h
 at Ray Wilson selbstverständlich alle Hits wie "Congo"\, "Not About Us"\,
  "Shipwrecked" und natürlich auch beliebte Livesongs\, wie beispielsweise
  "The Dividing Line"\, welches durch sein gewaltiges Schlagzeugsolo und da
 s gigantische Duell der Lead-Gitarren heraussticht. Dazu gehört auch das 
 bisher noch nicht live gespielte neunminütige Stück "One Man's Fool"\, w
 elches neben weiteren Genesis Klassikern und eigenen Liedern seiner Soloka
 rriere zum Besten gegeben werden.
ATTACH;FMTTYPE=image/jpeg:https://bensheimerleben.de/wp-content/uploads/20
 26/04/Ray_Wilson_R6II0191-700.jpg
CATEGORIES:Konzerte &amp; Musik
LOCATION:MUSIKTHEATER REX\, Fabrikstraße 10\, Bensheim\, Deutschland
GEO:49.67575;8.61588
X-APPLE-STRUCTURED-LOCATION;VALUE=URI;X-ADDRESS=Fabrikstraße 10\, Bensheim
 \, Deutschland;X-APPLE-RADIUS=100;X-TITLE=MUSIKTHEATER REX:geo:49.67575,8.
 61588
END:VEVENT
BEGIN:VTIMEZONE
TZID:Europe/Berlin
X-LIC-LOCATION:Europe/Berlin
BEGIN:DAYLIGHT
DTSTART:20270328T030000
TZOFFSETFROM:+0100
TZOFFSETTO:+0200
TZNAME:CEST
END:DAYLIGHT
END:VTIMEZONE
END:VCALENDAR