BEGIN:VCALENDAR
VERSION:2.0
PRODID:-//wp-events-plugin.com//7.2.3.1//EN
TZID:Europe/Berlin
X-WR-TIMEZONE:Europe/Berlin
BEGIN:VEVENT
UID:9308@bensheimerleben.de
DTSTART;TZID=Europe/Berlin:20261105T193000
DTEND;TZID=Europe/Berlin:20261105T220000
DTSTAMP:20260421T065622Z
URL:https://bensheimerleben.de/events/rock-the-circus-musik-fuer-die-augen
 /
SUMMARY:Rock The Circus Musik für die Augen
DESCRIPTION:Die pulsierende Energie eines Rockkonzerts vereint mit der Fasz
 ination von Weltklasse-Zirkusartistik – Der Überraschungserfolg erneut 
 auf großer Tournee durch Deutschland Hier wächst zusammen\, was zusammen
 gehört – atemberaubende Artistik und kraftvolle Rockmusik. Kreativität
 \, Risikobereitschaft\, virtuose Fingerfertigkeit und der Mut zur großen 
 Emotion verbinden die Welt des Rock 'n' Roll seit jeher mit der des Zirkus
 . Zirkus und Rock waren sich selten so nahe wie bei der überraschenden Er
 folgsshow ROCK THE CIRCUS. Aus einer simplen Idee entstand 2018 eine mitre
 ißende und überzeugende Mischung\, die beim Publikum voll eingeschlagen 
 ist. Die Tournee-Produzenten und -Veranstalter von Reset Production aus Ge
 ra lieben Zirkus und live-gespielte Rockmusik. So entstand eine Show mit e
 iner überzeugenden Live-Band und hervorragenden Akrobaten. Aufgrund der a
 nhaltend großen Nachfrage seit der Premiere im Jahr 2018 geht diese spekt
 akuläre Show zum wiederholten Male erneut auf große Tournee. Die hauseig
 ene Rock-The-Circus-Band interpretiert live die größten Hits der Rock-Ge
 schichte von legendären Bands wie AC/DC\, Bon Jovi\, Guns N' Roses\, Pink
  Floyd\, Queen\, den Red Hot Chili Peppers und vielen mehr. Sechs Vollblut
 -Rockmusiker sorgen für unvergessliche Gänsehautmomente und das ultimati
 ve Live-Konzert-Feeling. Die musikalischen Darbietungen werden durch artis
 tische Höchstleistungen internationaler Akrobaten zu einer neuen Kunstfor
 m verschmolzen – rasant\, kraftvoll und wild. Atemberaubende Akrobatik\,
  magische Momente und spektakuläre Glanzleistungen treffen auf kraftvolle
  Rock-Hymnen und gefühlvolle Balladen aus 50 Jahren Rockgeschichte. Die S
 ongs sind perfekt auf die jeweiligen Darbietungen abgestimmt\, die Darbiet
 ungen optimal der Songauswahl angepasst. So wächst zusammen\, was zusamme
 ngehört. „Rock The Circus“ bietet einen unvergesslichen Abend für Au
 gen und Ohren\, für das Herz und die Seele\, für Fans harter Rockmusik u
 nd Liebhaber faszinierender Zirkuskunst. Die mitreißende Inszenierung ver
 mag es\, Menschen generationenübergreifend\, von ganz jung bis rüstig re
 if\, unabhängig von Status\, Herkunft und Geschlecht für einen Abend zu 
 vereinen. Das belegen neben allabendlichen Standing-Ovations auch Zeitungs
 kritiken und zahlreiche Fan-Reports: „Die Band war der Hammer\, die Lied
 erauswahl und Stimmung top.“ (Fan-Report aus Erlangen\, 2024)\; „sehr 
 familiär und Bombenstimmung“ (Offenburg\, 2024)\; „So toll! Gerne wie
 der! Voll zu empfehlen!“ (Hof\, 2024)\; „Ich war jetzt das zweite Mal 
 da und bin wieder total begeistert“ (Flensburg\, 2023)\; „Es war wirkl
 ich ein magischer Abend“ (Köln\, 2023)\; „Seit langem die beste Show\
 , die wir im Theater am Aegi gesehen haben…. Da würden wir glatt noch e
 inmal hingehen“ (Hannover\, 2023). Pressestimmen: „… durch die Halle
  fegte ein energiegeladener Sturm der Begeisterung“ Schwarzwälder Bote 
 „…ein kurzweiliger Abend mit reichlich Nervenkitzel” Volksfreund „
 Rock Circus setzt traditionelle Artistik neu in Szene...” Saarbrücker Z
 eitung „…ein echtes Feuerwerk an mitreißenden Sensationen” Westfale
 n-Blatt „Spektakuläre Artistik mit Rockmusik...” Peiner Allgemeine Ze
 itung „Standing Ovations für grandiose Show...” Beverunger Rundschau 
 Tickets &amp\; Informationen: www.rockthecircus.de Ticket Ermäßigungen: 
 Kinder von 7-12 Jahren erhalten 50% Rabatt auf alle Eintrittspreise Gruppe
 n ab zehn Personen erhalten 5\,00 € Ermäßigung je Ticket Freier Eintri
 tt für die Begleitperson bei Gästen mit einem „B“ im Ausweis  Serv
 ice Hotline: +49 / (0)365 – 54 818 30 Pressekontakt: marketing@resetprod
 uction.de Pressematerial: www.resetproduction.de/presse
ATTACH;FMTTYPE=image/jpeg:https://bensheimerleben.de/wp-content/uploads/20
 26/04/1280x800_RTC_RTL-1.jpg
CATEGORIES:Konzerte &amp; Musik,Theater, Aufführungen &amp; Show
LOCATION:PARKTHEATER Bensheim\, Georg-Stolle-Platz 5\, Bensheim\, Deutschla
 nd
GEO:49.682111;8.620373
X-APPLE-STRUCTURED-LOCATION;VALUE=URI;X-ADDRESS=Georg-Stolle-Platz 5\, Bens
 heim\, Deutschland;X-APPLE-RADIUS=100;X-TITLE=PARKTHEATER Bensheim:geo:49.
 682111,8.620373
END:VEVENT
BEGIN:VTIMEZONE
TZID:Europe/Berlin
X-LIC-LOCATION:Europe/Berlin
BEGIN:STANDARD
DTSTART:20261025T020000
TZOFFSETFROM:+0200
TZOFFSETTO:+0100
TZNAME:CET
END:STANDARD
END:VTIMEZONE
END:VCALENDAR