BEGIN:VCALENDAR
VERSION:2.0
PRODID:-//wp-events-plugin.com//7.2.3.1//EN
TZID:Europe/Berlin
X-WR-TIMEZONE:Europe/Berlin
BEGIN:VEVENT
UID:9320@bensheimerleben.de
DTSTART;TZID=Europe/Berlin:20270509T150000
DTEND;TZID=Europe/Berlin:20270509T163000
DTSTAMP:20260424T074901Z
URL:https://bensheimerleben.de/events/sherlock-holmes-der-fall-der-verschw
 undenen-elster/
SUMMARY:Sherlock Holmes: Der Fall der verschwundenen Elster
DESCRIPTION:Das Märchen erzählt die Geschichte vom Brautpaar Rabe und Els
 ter\, deren Glück kurz vor ihrer Hochzeit gestört wird.\n\nEines Morgens
  schleicht sich ein ausgehungerter Fuchs in den Hühnerhof und sucht nach 
 Beute. Doch der Hahn vertreibt ihn\, und so versucht er sein Glück bei ei
 ner Schar Vögel\, die gerade die Hochzeit der Elster und des Raben vorber
 eiten. Er entführt die Elster-Braut in seine Höhle. Verzweifelt bittet d
 er Bräutigam den Förster um Hilfe. Gemeinsam begeben sich die beiden als
  Sherlock Holmes und Dr. Watson verkleidet in den Märchenwald auf eine ab
 enteuerliche Suche. Leicht ist es nicht\, sich im Reich der Tiere – zwis
 chen Fledermäusen\, Eichhörnchen\, Ameisen\, Schmetterlingen\, Hasen und
  Igeln – zu behaupten und die Waldbewohner von ihrer Aufrichtigkeit zu 
 überzeugen.\n\nIn letzter Minute kommen die beiden im Fuchsbau an und üb
 erraschen die hungrige Meute\, die schon den Kessel für den Elstergulasch
  angeheizt hat. Voller Angst sieht die Gefangene hinter Gitter ihrem Ende 
 entgegen. Der Kampf um die Braut beginnt.\n\nGetanztes Märchen für Kinde
 r ab 5 Jahren\n\nWeitere Infos\n\nBild: ©Sorbisches National-Ensemble
ATTACH;FMTTYPE=image/jpeg:https://bensheimerleben.de/wp-content/uploads/20
 26/04/7_Ratlos00E.jpg
CATEGORIES:Familie, Kinder &amp; Jugend,Theater, Aufführungen &amp; Show
LOCATION:PARKTHEATER Bensheim\, Georg-Stolle-Platz 5\, Bensheim\, Deutschla
 nd
GEO:49.682111;8.620373
X-APPLE-STRUCTURED-LOCATION;VALUE=URI;X-ADDRESS=Georg-Stolle-Platz 5\, Bens
 heim\, Deutschland;X-APPLE-RADIUS=100;X-TITLE=PARKTHEATER Bensheim:geo:49.
 682111,8.620373
END:VEVENT
BEGIN:VTIMEZONE
TZID:Europe/Berlin
X-LIC-LOCATION:Europe/Berlin
BEGIN:DAYLIGHT
DTSTART:20270328T030000
TZOFFSETFROM:+0100
TZOFFSETTO:+0200
TZNAME:CEST
END:DAYLIGHT
END:VTIMEZONE
END:VCALENDAR