BEGIN:VCALENDAR
VERSION:2.0
PRODID:-//wp-events-plugin.com//7.2.3.1//EN
TZID:Europe/Berlin
X-WR-TIMEZONE:Europe/Berlin
BEGIN:VEVENT
UID:8483@bensheimerleben.de
DTSTART;TZID=Europe/Berlin:20251227T200000
DTEND;TZID=Europe/Berlin:20251227T230000
DTSTAMP:20250815T090858Z
URL:https://bensheimerleben.de/events/simon-garfunkel-revival-band-8/
SUMMARY:Simon &amp\; Garfunkel Revival Band
DESCRIPTION:Traumhafte\, leidenschaftliche Balladen wie „Scarborough Fair
 “ oder „Bright Eyes“\, Klassiker wie „Mrs. Robinson“\, „The Bo
 xer“ oder „The Sound of Silence“ gehören ebenso fest zum umfangreic
 hen Repertoire wie die mitreißende „Cecilia“ und „Late in the eveni
 ng“. Einfach nur Nachspielen reicht da nicht! Um das Musikgefühl und di
 e vielen kleinen musikalischen Raffinessen zu erwecken\, benötigt man auc
 h erstklassige Musiker. Frontmann\, Sänger und Gitarrist Michael Frank\, 
 Keyboarder und Bassist Sebastian Fritzlar\, der Drummer Ingo Kaiser und S
 änger Guido Reuter\, der auch an Flöte und Geige erstklassige Qualitäte
 n aufweist\, schaffen den Seiltanz aus vollendetem Cover und eigener Inter
 pretation so authentisch\, dass das Publikum in einen regelrechten Sog zwi
 schen ihren sehr rhythmischen und den gefühlvollen Nummern gerät.
ATTACH;FMTTYPE=image/jpeg:https://bensheimerleben.de/wp-content/uploads/20
 25/08/SimonGarfunkel2020.jpg
CATEGORIES:Konzerte &amp; Musik
LOCATION:MUSIKTHEATER REX\, Fabrikstraße 10\, Bensheim\, Deutschland
GEO:49.67575;8.61588
X-APPLE-STRUCTURED-LOCATION;VALUE=URI;X-ADDRESS=Fabrikstraße 10\, Bensheim
 \, Deutschland;X-APPLE-RADIUS=100;X-TITLE=MUSIKTHEATER REX:geo:49.67575,8.
 61588
END:VEVENT
BEGIN:VTIMEZONE
TZID:Europe/Berlin
X-LIC-LOCATION:Europe/Berlin
BEGIN:STANDARD
DTSTART:20251026T020000
TZOFFSETFROM:+0200
TZOFFSETTO:+0100
TZNAME:CET
END:STANDARD
END:VTIMEZONE
END:VCALENDAR