BEGIN:VCALENDAR
VERSION:2.0
PRODID:-//wp-events-plugin.com//7.2.3.1//EN
TZID:Europe/Berlin
X-WR-TIMEZONE:Europe/Berlin
BEGIN:VEVENT
UID:8228@bensheimerleben.de
DTSTART;TZID=Europe/Berlin:20251204T200000
DTEND;TZID=Europe/Berlin:20251204T230000
DTSTAMP:20250519T114235Z
URL:https://bensheimerleben.de/events/ten-years-after/
SUMMARY:Ten Years After
DESCRIPTION:Der legendäre Rock/Blues-Schlagzeuger Ric Lee bringt Ten Years
  After für neue Europatourneen und ein neues Album im Jahr 2025 zurück!\
 nRic ist ein Veteran des Woodstock-Festivals in den USA im August 1969\, w
 o die Band neben Jimi Hendrix\, Joe Cocker und vielen anderen einen Riesen
 erfolg feierte. Im darauffolgenden Jahr traten Ten Years After in ihrer He
 imat Großbritannien beim berühmten Isle of Wight Festival 1970 auf. Die 
 Band tourte in den späten 60er- und frühen 70er-Jahren über 28-mal durc
 h die USA\, landete viele erfolgreiche US-Chartalben und konnte in Großbr
 itannien und Europa ebenso viele Albenerfolge verzeichnen.\nRic bringt nun
  eine aufregende neue Besetzung mit\, um 2025 und in absehbarer Zukunft du
 rch Großbritannien und Europa zu touren.\nSCHLAGZEUG/GESANG: Neben Ric am
  Schlagzeug werden legendäre Musiker mit Rock- und Blues-Hintergrund und 
 Hit-Aufnahmesessions spielen.\nGITARRE/GESANG: Sam C. Lees hat unter ander
 em mit Robin Trower\, Jack Bruce und Joe Bonamassa auf der Bühne gearbeit
 et.\nBASS/GESANG: Craig Fletcher spielt seit über 25 Jahren mit John Lees
  Barclay James Harvest.\nKEYBOARD/VIOLIN: Dave Burgoyne\, ein erstklassige
 r Sessionmusiker\, hat auch mit Toyah\, Dutone und Star Dame zusammengearb
 eitet.\nDie Band spielt alle ihre weltweiten Chart-Hits. Darunter:\nLove L
 ike a Man! – I’d Love to Change the World!\nUnd natürlich – I’m G
 oing Home!\nMacht euch bereit für spannende und kraftvolle Shows!
ATTACH;FMTTYPE=image/jpeg:https://bensheimerleben.de/wp-content/uploads/20
 25/05/Press-TYA-picture-2-colour-copyright-JL-Visiongraphy_700.jpg
CATEGORIES:Konzerte &amp; Musik
LOCATION:MUSIKTHEATER REX\, Fabrikstraße 10\, Bensheim\, Deutschland
GEO:49.67575;8.61588
X-APPLE-STRUCTURED-LOCATION;VALUE=URI;X-ADDRESS=Fabrikstraße 10\, Bensheim
 \, Deutschland;X-APPLE-RADIUS=100;X-TITLE=MUSIKTHEATER REX:geo:49.67575,8.
 61588
END:VEVENT
BEGIN:VTIMEZONE
TZID:Europe/Berlin
X-LIC-LOCATION:Europe/Berlin
BEGIN:STANDARD
DTSTART:20251026T020000
TZOFFSETFROM:+0200
TZOFFSETTO:+0100
TZNAME:CET
END:STANDARD
END:VTIMEZONE
END:VCALENDAR