BEGIN:VCALENDAR
VERSION:2.0
PRODID:-//wp-events-plugin.com//7.2.3.1//EN
TZID:Europe/Berlin
X-WR-TIMEZONE:Europe/Berlin
BEGIN:VEVENT
UID:9304@bensheimerleben.de
DTSTART;TZID=Europe/Berlin:20260514T100000
DTEND;TZID=Europe/Berlin:20260514T180000
DTSTAMP:20260420T070358Z
URL:https://bensheimerleben.de/events/vatertag-bei-der-psg-auerbach/
SUMMARY:Vatertag bei der PSG Auerbach
DESCRIPTION:Die Privilegierte Schützengesellschaft Auerbach lädt alle Bü
 rger zum Vatertag auf das naturnahe Vereinsgelände ein. Die Besucher kön
 nen Bratwürste vom Grill\, Pommes\, oder Kaffee mit Kuchen zur Stärkung 
 bekommen. Kühle Getränke und frischgezapftes Bier gibt es an der Außenb
 ar. Wir freuen uns auf euch!
CATEGORIES:Familie, Kinder &amp; Jugend,Feste, Märkte und Regionales
END:VEVENT
BEGIN:VTIMEZONE
TZID:Europe/Berlin
X-LIC-LOCATION:Europe/Berlin
BEGIN:DAYLIGHT
DTSTART:20260329T030000
TZOFFSETFROM:+0100
TZOFFSETTO:+0200
TZNAME:CEST
END:DAYLIGHT
END:VTIMEZONE
END:VCALENDAR