BEGIN:VCALENDAR
VERSION:2.0
PRODID:-//wp-events-plugin.com//7.2.3.1//EN
TZID:Europe/Berlin
X-WR-TIMEZONE:Europe/Berlin
BEGIN:VEVENT
UID:9311@bensheimerleben.de
DTSTART;TZID=Europe/Berlin:20260429T190000
DTEND;TZID=Europe/Berlin:20260429T210000
DTSTAMP:20260422T085109Z
URL:https://bensheimerleben.de/events/waermepumpen-heizen-der-zukunft/
SUMMARY:Wärmepumpen. Heizen der Zukunft
DESCRIPTION:\n\n\n\nHeizen der Zukunft\n\nVerein „Aufwind für Bensheim
 “ lädt zum Wärmepumpen-Abend\n\nAngesichts steigender Energiepreise un
 d globaler Krisen wird die Abhängigkeit von fossilen Energieträgern für
  viele Haushalte immer spürbarer. Eine mögliche Alternative rückt dabei
  zunehmend in den Fokus: die Wärmepumpe.\n\nWärmepumpen gelten als zukun
 ftsweisende Technologie und haben im ersten Halbjahr 2025 erstmals einen h
 öheren Marktanteil als klassische Gasheizungen erreicht. Während sie im 
 Neubau bereits Standard sind\, gewinnen sie auch bei Bestandsgebäuden zun
 ehmend an Bedeutung.\n\nDer Verein „Aufwind für Bensheim“ lädt daher
  am 29. April um 19 Uhr zu einer Informationsveranstaltung in den Nebenrau
 m der Weststadthalle ein. Ziel ist es\, interessierten Bürgerinnen und B
 ürgern einen verständlichen Überblick über den Einsatz von Wärmepumpe
 n in privaten Haushalten zu gebe.\n\nAls Referent konnte Dipl.-Ing. Karl R
 ösch gewonnen werden\, der auf langjährige Erfahrung als Wärmepumpenber
 ater zurückblickt. In seinem Vortrag erklärt er anschaulich die Funktion
 sweise dieser Heiztechnik\, ihre Effizienz sowie die Voraussetzungen für 
 den Einbau – sowohl im Neubau als auch im Altbau. Darüber hinaus werden
  Themen wie Investitions- und Betriebskosten\, Wartung sowie staatliche F
 ördermöglichkeiten behandelt.\n\nDie Veranstaltung richtet sich an alle\
 , die über eine Modernisierung ihrer Heizungsanlage nachdenken und alle i
 nteressierten Bürgerinnen und Bürgern. Vorkenntnisse sind nicht erforder
 lich\, der Eintritt ist frei.\n\n\n\n
ATTACH;FMTTYPE=image/jpeg:https://bensheimerleben.de/wp-content/uploads/20
 26/04/19591.jpg
CATEGORIES:Lesungen, Vorträge und Kurse
LOCATION:Weststadthalle Bensheim\, Berliner Ring 87\, Bensheim\, 64625\, De
 utschland
GEO:49.687196;8.607467
X-APPLE-STRUCTURED-LOCATION;VALUE=URI;X-ADDRESS=Berliner Ring 87\, Bensheim
 \, 64625\, Deutschland;X-APPLE-RADIUS=100;X-TITLE=Weststadthalle Bensheim:
 geo:49.687196,8.607467
END:VEVENT
BEGIN:VTIMEZONE
TZID:Europe/Berlin
X-LIC-LOCATION:Europe/Berlin
BEGIN:DAYLIGHT
DTSTART:20260329T030000
TZOFFSETFROM:+0100
TZOFFSETTO:+0200
TZNAME:CEST
END:DAYLIGHT
END:VTIMEZONE
END:VCALENDAR