BEGIN:VCALENDAR
VERSION:2.0
PRODID:-//wp-events-plugin.com//7.2.3.1//EN
TZID:Europe/Berlin
X-WR-TIMEZONE:Europe/Berlin
BEGIN:VEVENT
UID:8724@bensheimerleben.de
DTSTART;TZID=Europe/Berlin:20251225T110000
DTEND;TZID=Europe/Berlin:20251225T120000
DTSTAMP:20251201T085742Z
URL:https://bensheimerleben.de/events/weihnachten-mit-gregorianischem-chor
 al/
SUMMARY:Weihnachten mit gregorianischem Choral
DESCRIPTION:Das Weihnachtshochamt um 11 Uhr in St. Georg wird musikalisch g
 estaltet von der Bergsträßer Choralschola. Sie singt die Eigentexte des 
 Festes: Puer natus – ein Kind ist geboren\, viderunt omnes salutare Dei 
 – alle sehen das Heil Gottes. Im Wechsel mit der Gemeinde werden Kyrie\,
  Sanctus und Agnus Dei aus der „missa de angelis“ – Engelsmesse gesu
 ngen.\n\n\n\nBildunterschrift: Initiale P des Weihnachts-Introitus „Puer
  natus“\, Graduale um 1300\, Fribourg/Freiburg\, Couvent des Cordeliers/
 Franziskanerkloster\, Ms. 9\, f. 11r (https://www.e-codices.ch/en/list/one
 /fcc/0009)\n\n\n\n\n\n\n
ATTACH;FMTTYPE=image/jpeg:https://bensheimerleben.de/wp-content/uploads/20
 25/11/Puer-natus-Graduale-Fribourg-1300-Kopie.png
CATEGORIES:Kultur &amp; Bildung
LOCATION:Kirche St. Georg Bensheim\, Marktplatz 10\, Bensheim\, 64625\, Deu
 tschland
GEO:49.681385;8.623952
X-APPLE-STRUCTURED-LOCATION;VALUE=URI;X-ADDRESS=Marktplatz 10\, Bensheim\, 
 64625\, Deutschland;X-APPLE-RADIUS=100;X-TITLE=Kirche St. Georg Bensheim:g
 eo:49.681385,8.623952
END:VEVENT
BEGIN:VTIMEZONE
TZID:Europe/Berlin
X-LIC-LOCATION:Europe/Berlin
BEGIN:STANDARD
DTSTART:20251026T020000
TZOFFSETFROM:+0200
TZOFFSETTO:+0100
TZNAME:CET
END:STANDARD
END:VTIMEZONE
END:VCALENDAR